BEGIN:VCALENDAR
PRODID:-//eluceo/ical//2.0/EN
VERSION:2.0
CALSCALE:GREGORIAN
BEGIN:VEVENT
UID:a475d20ff24eeb0e6f3819b37919be55
DTSTAMP:20260423T211238Z
SUMMARY:YAD Rosh Hashanah Dinners2
DESCRIPTION:Jewish Federation of Central Massachusetts\nCalendar\nhttps://j
 ewishcentralmass.org/calendar/yad-rosh-hashanah-dinners2\n\nYAD Rosh Hasha
 nah Dinners\n\nSeptember 29th & 30th
DTSTART;TZID=America/New_York:20190930T190000
DTEND;TZID=America/New_York:20190930T210000
END:VEVENT
END:VCALENDAR
