BEGIN:VCALENDAR
PRODID:-//eluceo/ical//2.0/EN
VERSION:2.0
CALSCALE:GREGORIAN
BEGIN:VEVENT
UID:2d3f6edc7f891c5fbf912e2b561c95b6
DTSTAMP:20260423T170606Z
SUMMARY:YAD Rosh Hashanah Dinner 2024
DESCRIPTION:Jewish Federation of Central Massachusetts\nCalendar\nhttps://j
 ewishcentralmass.org/calendar/yad-rosh-hashanah-dinner-2024\n\nYAD Rosh Ha
 shanah Dinner (Oct. 2nd or 3rd...TBA)\n\n 
DTSTART;TZID=America/New_York:20241002T000000
DTEND;TZID=America/New_York:20241002T235959
END:VEVENT
END:VCALENDAR
