BEGIN:VCALENDAR
PRODID:-//eluceo/ical//2.0/EN
VERSION:2.0
CALSCALE:GREGORIAN
BEGIN:VEVENT
UID:dc1784f0cbbc7c7c089af16618274f1f
DTSTAMP:20260422T051256Z
SUMMARY:YAD RH Dinner 2
DESCRIPTION:Jewish Federation of Central Massachusetts\nCalendar\nhttps://j
 ewishcentralmass.org/calendar/yad-rh-dinner-2\n\nYAD RH Dinner 
DTSTART;TZID=America/New_York:20210907T190000
DTEND;TZID=America/New_York:20210907T210000
END:VEVENT
END:VCALENDAR
