BEGIN:VCALENDAR
PRODID:-//eluceo/ical//2.0/EN
VERSION:2.0
CALSCALE:GREGORIAN
BEGIN:VEVENT
UID:1d5c08d53f75e9e7a027bdbfce9b5ffa
DTSTAMP:20260422T131054Z
SUMMARY:YAD RH Dinner 1
DESCRIPTION:Jewish Federation of Central Massachusetts\nCalendar\nhttps://j
 ewishcentralmass.org/calendar/yad-rh-dinner-1\n\nYAD RH Dinner
DTSTART;TZID=America/New_York:20210906T190000
DTEND;TZID=America/New_York:20210906T210000
END:VEVENT
END:VCALENDAR
