BEGIN:VCALENDAR
PRODID:-//eluceo/ical//2.0/EN
VERSION:2.0
CALSCALE:GREGORIAN
BEGIN:VEVENT
UID:44cc9b93a56f19487ccdc9d5a3a549ef
DTSTAMP:20260424T031911Z
SUMMARY:YAD Pre-Shavuot Hike and Ice Cream 2026
DESCRIPTION:Jewish Federation of Central Massachusetts\nCalendar\nhttps://j
 ewishcentralmass.org/calendar/yad-pre-shavuot-hike-and-ice-cream-2026\n\nY
 AD Pre-Shavuot Hike and Ice Cream\, May 31st\n\nTime: TBD
DTSTART;TZID=America/New_York:20260531T110000
DTEND;TZID=America/New_York:20260531T140000
END:VEVENT
END:VCALENDAR
