BEGIN:VCALENDAR
PRODID:-//eluceo/ical//2.0/EN
VERSION:2.0
CALSCALE:GREGORIAN
BEGIN:VEVENT
UID:0badb02e29b23f3222680a577c038542
DTSTAMP:20260421T091729Z
SUMMARY:YAD Potluck Shabbat
DESCRIPTION:Jewish Federation of Central Massachusetts\nCalendar\nhttps://j
 ewishcentralmass.org/calendar/yad-potluck-shabbat\n\nYAD Potluck Shabbat a
 t Anna K's House in Marlborough.\n\nRSVP to Mindy Hall
DTSTART;TZID=America/New_York:20190712T183000
DTEND;TZID=America/New_York:20190712T203000
END:VEVENT
END:VCALENDAR
