BEGIN:VCALENDAR
PRODID:-//eluceo/ical//2.0/EN
VERSION:2.0
CALSCALE:GREGORIAN
BEGIN:VEVENT
UID:a40987f61195e9a2dfd7474d85b5ef01
DTSTAMP:20260422T121048Z
SUMMARY:YAD - Pizza in the Hut
DESCRIPTION:Jewish Federation of Central Massachusetts\nCalendar\nhttps://j
 ewishcentralmass.org/calendar/yad-pizza-in-the-hut\n\nYAD - Pizza in the H
 ut
DTSTART;TZID=America/New_York:20210926T140000
DTEND;TZID=America/New_York:20210926T160000
END:VEVENT
END:VCALENDAR
