BEGIN:VCALENDAR
PRODID:-//eluceo/ical//2.0/EN
VERSION:2.0
CALSCALE:GREGORIAN
BEGIN:VEVENT
UID:4ea740b6eb85cb9bb79fb70213fd89cd
DTSTAMP:20260422T185523Z
SUMMARY:YAD - PICNIC at DEAN PARK
DESCRIPTION:Jewish Federation of Central Massachusetts\nCalendar\nhttps://j
 ewishcentralmass.org/calendar/yad-picnic-at-dean-park\n\nPICNIC at DEAN PA
 RK— Bring your picnic lunch and outdoor game as we head to beautiful Dea
 n Park. Meet up at the parking lot near the tennis courts. Sunday\, August
  15th\, 11:00 am.
DTSTART;TZID=America/New_York:20210815T110000
DTEND;TZID=America/New_York:20210815T130000
END:VEVENT
END:VCALENDAR
