BEGIN:VCALENDAR
PRODID:-//eluceo/ical//2.0/EN
VERSION:2.0
CALSCALE:GREGORIAN
BEGIN:VEVENT
UID:fd39893dacaf13c9ead0aba95799d998
DTSTAMP:20260423T205703Z
SUMMARY:YAD Pickleball (or frisbee) ‘n Ice Cream
DESCRIPTION:Jewish Federation of Central Massachusetts\nCalendar\nhttps://j
 ewishcentralmass.org/calendar/yad-pickleball-or-frisbee-n-ice-cream\n\nYAD
  Pickleball (or frisbee) ‘n Ice Cream: Sunday\, August 11th\, 4:00 pm\, 
 Ellsworth McAfee Park Pickleball Courts. Bring your racquets and frisbees\
 , or just come schmooze. Ice Cream following.
DTSTART;TZID=America/New_York:20240811T160000
DTEND;TZID=America/New_York:20240811T180000
END:VEVENT
END:VCALENDAR
