BEGIN:VCALENDAR
PRODID:-//eluceo/ical//2.0/EN
VERSION:2.0
CALSCALE:GREGORIAN
BEGIN:VEVENT
UID:6f02abc73a6bc53a8add3fadc1ed1e5c
DTSTAMP:20260422T130038Z
SUMMARY:YAD Peach Picking
DESCRIPTION:Jewish Federation of Central Massachusetts\nCalendar\nhttps://j
 ewishcentralmass.org/calendar/yad-peach-picking\n\nYAD Peach picking at Ge
 orge Hill Orchards\, 10:00 am\n\n 
DTSTART;TZID=America/New_York:20190818T100000
DTEND;TZID=America/New_York:20190818T120000
END:VEVENT
END:VCALENDAR
