BEGIN:VCALENDAR
PRODID:-//eluceo/ical//2.0/EN
VERSION:2.0
CALSCALE:GREGORIAN
BEGIN:VEVENT
UID:66965c8e7821c1d1a086f92a8f9a77a9
DTSTAMP:20260422T132010Z
SUMMARY:YAD -  Passover Shabbat Lunch
DESCRIPTION:Jewish Federation of Central Massachusetts\nCalendar\nhttps://j
 ewishcentralmass.org/calendar/yad-passover-shabbat-lunch\n\nYAD Passover S
 habbat Lunch\, Saturday\, April 16th\, 12:00 pm
DTSTART;TZID=America/New_York:20220416T120000
DTEND;TZID=America/New_York:20220416T140000
END:VEVENT
END:VCALENDAR
