BEGIN:VCALENDAR
PRODID:-//eluceo/ical//2.0/EN
VERSION:2.0
CALSCALE:GREGORIAN
BEGIN:VEVENT
UID:7df4f94ad080e1ca7d990e6911530aea
DTSTAMP:20260424T103846Z
SUMMARY:YAD OUTDOOR JULY SHABBAT and DINNER
DESCRIPTION:Jewish Federation of Central Massachusetts\nCalendar\nhttps://j
 ewishcentralmass.org/calendar/yad-outdoor-july-shabbat-and-dinner\n\nYAD O
 UTDOOR JULY SHABBAT and DINNER (Zoom option available) - Welcome to our fi
 rst in person Shabbat since February 2020. Outdoors. Dinner provided by Je
 wish Federation. Bring beverages /wine and pre-packaged desserts. Friday\,
  July 9th\, 7:00pm at Sara and Alisa’s in Worcester. Note\, as a private
  home\, it has been requested attendees be vaccinated. If you are not\, pl
 ease let us know and we will zoom you in!
DTSTART;TZID=America/New_York:20210709T190000
DTEND;TZID=America/New_York:20210709T210000
END:VEVENT
END:VCALENDAR
