BEGIN:VCALENDAR
PRODID:-//eluceo/ical//2.0/EN
VERSION:2.0
CALSCALE:GREGORIAN
BEGIN:VEVENT
UID:7abcc96eff14505718c2b4ee0a2a5dee
DTSTAMP:20260425T181615Z
SUMMARY:YAD or Chaverim Event
DESCRIPTION:Jewish Federation of Central Massachusetts\nCalendar\nhttps://j
 ewishcentralmass.org/calendar/yad-or-chaverim-event\n\nYAD or Chaverim Eve
 nt - TBD
DTSTART;TZID=America/New_York:20220326T180000
DTEND;TZID=America/New_York:20220326T200000
END:VEVENT
END:VCALENDAR
