BEGIN:VCALENDAR
PRODID:-//eluceo/ical//2.0/EN
VERSION:2.0
CALSCALE:GREGORIAN
BEGIN:VEVENT
UID:467d2b77f75c74fbd2a7826583f16bee
DTSTAMP:20260423T042528Z
SUMMARY:YAD October Shabbat Lunch Outdoors
DESCRIPTION:Jewish Federation of Central Massachusetts\nCalendar\nhttps://j
 ewishcentralmass.org/calendar/yad-october-shabbat-lunch-outdoors\n\nOctobe
 r Shabbat Lunch Outdoors\, October 23rd\, 12:00 pm\, hosted at private hom
 e in Auburn\n\n 
DTSTART;TZID=America/New_York:20211023T120000
DTEND;TZID=America/New_York:20211023T140000
END:VEVENT
END:VCALENDAR
