BEGIN:VCALENDAR
PRODID:-//eluceo/ical//2.0/EN
VERSION:2.0
CALSCALE:GREGORIAN
BEGIN:VEVENT
UID:6e937f5708957e0ea7e57099bc012489
DTSTAMP:20260424T105432Z
SUMMARY:YAD October Potluck Shabbat
DESCRIPTION:Jewish Federation of Central Massachusetts\nCalendar\nhttps://j
 ewishcentralmass.org/calendar/yad-october-potluck-shabbat\n\nYAD October P
 otluck Shabbat\n\nFriday\, October 19th at 7:00pm\n\nLet's break bread at 
 the home of Josh and Noy. Please RSVP what veggie/side dish or dessert you
  will be bringing and for address.
DTSTART;TZID=America/New_York:20181019T190000
DTEND;TZID=America/New_York:20181019T210000
END:VEVENT
END:VCALENDAR
