BEGIN:VCALENDAR
PRODID:-//eluceo/ical//2.0/EN
VERSION:2.0
CALSCALE:GREGORIAN
BEGIN:VEVENT
UID:d0186a8aae28e20b0a3a07aaf5823ca3
DTSTAMP:20260423T040523Z
SUMMARY:YAD November Shabbat Lunch Outdoors
DESCRIPTION:Jewish Federation of Central Massachusetts\nCalendar\nhttps://j
 ewishcentralmass.org/calendar/yad-november-shabbat-lunch-outdoors\n\nNovem
 ber Shabbat Lunch Outdoors\, November 6th\, 12:00 pm\, hosted at private h
 ome in Marlborough\n\n 
DTSTART;TZID=America/New_York:20211106T120000
DTEND;TZID=America/New_York:20211106T140000
END:VEVENT
END:VCALENDAR
