BEGIN:VCALENDAR
PRODID:-//eluceo/ical//2.0/EN
VERSION:2.0
CALSCALE:GREGORIAN
BEGIN:VEVENT
UID:3dd51c3a30fc4e8369db9d37e979d6c3
DTSTAMP:20260422T183738Z
SUMMARY:YAD Newcomer Picnic in the Park
DESCRIPTION:Jewish Federation of Central Massachusetts\nCalendar\nhttps://j
 ewishcentralmass.org/calendar/yad-newcomer-picnic-in-the-park\n\nYAD Newco
 mer Picnic in the Park\nRSVP to mhall@jfcm.org
DTSTART;TZID=America/New_York:20230813T103000
DTEND;TZID=America/New_York:20230813T123000
END:VEVENT
END:VCALENDAR
