BEGIN:VCALENDAR
PRODID:-//eluceo/ical//2.0/EN
VERSION:2.0
CALSCALE:GREGORIAN
BEGIN:VEVENT
UID:67d28f7ad73ed73f346c678bdda206e1
DTSTAMP:20260423T111100Z
SUMMARY:YAD National Young Leadership Program
DESCRIPTION:Jewish Federation of Central Massachusetts\nCalendar\nhttps://j
 ewishcentralmass.org/calendar/yad-national-young-leadership-program\n\nDec
 ember 2\, 6\;30 pm - National Young Leadership Program\, Locale TBD
DTSTART;TZID=America/New_York:20191202T183000
DTEND;TZID=America/New_York:20191202T203000
END:VEVENT
END:VCALENDAR
