BEGIN:VCALENDAR
PRODID:-//eluceo/ical//2.0/EN
VERSION:2.0
CALSCALE:GREGORIAN
BEGIN:VEVENT
UID:8e0bf98998ed06479cd4092ed98948d0
DTSTAMP:20260423T034142Z
SUMMARY:YAD Movie and Chinese Food Day 2023
DESCRIPTION:Jewish Federation of Central Massachusetts\nCalendar\nhttps://j
 ewishcentralmass.org/calendar/yad-movie-and-chinese-food-day-2023\n\nYAD 
 Movie and Chinese Food Day\, Dec 25th 1:00 pm movie\; 4:00 pm dinner. Con
 tact mhall@jfcm.org for more information or go to our YAD Facebook group p
 age
DTSTART;TZID=America/New_York:20231225T130000
DTEND;TZID=America/New_York:20231225T170000
END:VEVENT
END:VCALENDAR
