BEGIN:VCALENDAR
PRODID:-//eluceo/ical//2.0/EN
VERSION:2.0
CALSCALE:GREGORIAN
BEGIN:VEVENT
UID:8aab8aa5aebb264aa8c34beca54dcbb0
DTSTAMP:20260424T070155Z
SUMMARY:YAD Montly Supper Club - August
DESCRIPTION:Jewish Federation of Central Massachusetts\nCalendar\nhttps://j
 ewishcentralmass.org/calendar/yad-montly-supper-club-august\n\nJoin us for
  YAD Monthly Supper Club\n\n \n\nAugust 16th\, Locale TBA
DTSTART;TZID=America/New_York:20170816T183000
DTEND;TZID=America/New_York:20170816T203000
END:VEVENT
END:VCALENDAR
