BEGIN:VCALENDAR
PRODID:-//eluceo/ical//2.0/EN
VERSION:2.0
CALSCALE:GREGORIAN
BEGIN:VEVENT
UID:892c82d99bc213276029c40e319d30df
DTSTAMP:20260422T230031Z
SUMMARY:YAD Monthly Supper Club - July
DESCRIPTION:Jewish Federation of Central Massachusetts\nCalendar\nhttps://j
 ewishcentralmass.org/calendar/yad-monthly-supper-club-july\n\nJoin us for 
 YAD Monthly Supper Club\n\nJuly 12th\, 6:30pm at Vintage Grille\, Worceste
 r\n\nAugust 16th\, Locale TBA
DTSTART;TZID=America/New_York:20170712T183000
DTEND;TZID=America/New_York:20170712T203000
END:VEVENT
END:VCALENDAR
