BEGIN:VCALENDAR
PRODID:-//eluceo/ical//2.0/EN
VERSION:2.0
CALSCALE:GREGORIAN
BEGIN:VEVENT
UID:459fea809c78959ce65c763ae7be9883
DTSTAMP:20260422T210940Z
SUMMARY:YAD Monthly Shabbat Dinner
DESCRIPTION:Jewish Federation of Central Massachusetts\nCalendar\nhttps://j
 ewishcentralmass.org/calendar/yad-monthly-shabbat-dinner\n\nhttps://www.fa
 cebook.com/groups/centralmassyad/
DTSTART;TZID=America/New_York:20150320T190000
DTEND;TZID=America/New_York:20150320T210000
END:VEVENT
END:VCALENDAR
