BEGIN:VCALENDAR
PRODID:-//eluceo/ical//2.0/EN
VERSION:2.0
CALSCALE:GREGORIAN
BEGIN:VEVENT
UID:1a58865e137a048a7edc342f0edb9a61
DTSTAMP:20260421T000136Z
SUMMARY:YAD Monthly Potluck Shabbat - November '19
DESCRIPTION:Jewish Federation of Central Massachusetts\nCalendar\nhttps://j
 ewishcentralmass.org/calendar/yad-monthly-potluck-shabbat-november\n\nYAD 
 Monthly Potluck Shabbat\n\nNovember 8th at 7:00 pm\n\nHome of Gennady's\, 
 Worcester
DTSTART;TZID=America/New_York:20191108T190000
DTEND;TZID=America/New_York:20191108T210000
END:VEVENT
END:VCALENDAR
