BEGIN:VCALENDAR
PRODID:-//eluceo/ical//2.0/EN
VERSION:2.0
CALSCALE:GREGORIAN
BEGIN:VEVENT
UID:fc7e8120db390213e5c73adb5abb658e
DTSTAMP:20260422T044209Z
SUMMARY:YAD Monthly Potluck Shabbat - Jan '20
DESCRIPTION:Jewish Federation of Central Massachusetts\nCalendar\nhttps://j
 ewishcentralmass.org/calendar/yad-monthly-potluck-shabbat-jan-20\n\nYAD Mo
 nthly Potluck Shabbat\n\nJanuary 17th - 6:30pm at Rachel B's
DTSTART;TZID=America/New_York:20200117T183000
DTEND;TZID=America/New_York:20200117T210000
END:VEVENT
END:VCALENDAR
