BEGIN:VCALENDAR
PRODID:-//eluceo/ical//2.0/EN
VERSION:2.0
CALSCALE:GREGORIAN
BEGIN:VEVENT
UID:fbbe7c0c9292a5369d1050e73d4fb159
DTSTAMP:20260422T132226Z
SUMMARY:YAD Monthly Potluck Shabbat - Feb '20
DESCRIPTION:Jewish Federation of Central Massachusetts\nCalendar\nhttps://j
 ewishcentralmass.org/calendar/yad-monthly-potluck-shabbat-feb-20\n\nYAD Mo
 nthly Potluck Shabbat at Josh and Noy's\n\nFebruary 21st at 6:30 pm
DTSTART;TZID=America/New_York:20200221T183000
DTEND;TZID=America/New_York:20200221T210000
END:VEVENT
END:VCALENDAR
