BEGIN:VCALENDAR
PRODID:-//eluceo/ical//2.0/EN
VERSION:2.0
CALSCALE:GREGORIAN
BEGIN:VEVENT
UID:a70fbc07105824c32cfc7998f508aeec
DTSTAMP:20260420T160639Z
SUMMARY:YAD Monthly Potluck Shabbat Dinner - July
DESCRIPTION:Jewish Federation of Central Massachusetts\nCalendar\nhttps://j
 ewishcentralmass.org/calendar/yad-monthly-potluck-shabbat-dinner-july\n\nJ
 oin us for YAD Monthly Potluck Shabbat Dinner\n\nJuly 21st\, 6:30pm at Jos
 h Robins (Westborough)
DTSTART;TZID=America/New_York:20170721T183000
DTEND;TZID=America/New_York:20170721T203000
END:VEVENT
END:VCALENDAR
