BEGIN:VCALENDAR
PRODID:-//eluceo/ical//2.0/EN
VERSION:2.0
CALSCALE:GREGORIAN
BEGIN:VEVENT
UID:41a1cac892830898f732b57cca3a2385
DTSTAMP:20260422T162623Z
SUMMARY:YAD Monthly Happy Hour
DESCRIPTION:Jewish Federation of Central Massachusetts\nCalendar\nhttps://j
 ewishcentralmass.org/calendar/yad-monthly-happy-hour_March\n\nYAD Monthly 
 Happy Hour
DTSTART;TZID=America/New_York:20160310T183000
DTEND;TZID=America/New_York:20160310T203000
END:VEVENT
END:VCALENDAR
