BEGIN:VCALENDAR
PRODID:-//eluceo/ical//2.0/EN
VERSION:2.0
CALSCALE:GREGORIAN
BEGIN:VEVENT
UID:2b031ce0c80ed2f08fc6b536a8e127a7
DTSTAMP:20260423T191230Z
SUMMARY:YAD Monthly Happy Hour
DESCRIPTION:Jewish Federation of Central Massachusetts\nCalendar\nhttps://j
 ewishcentralmass.org/calendar/yad-monthly-happy-hour_Feb\n\nYAD Monthly Ha
 ppy Hour
DTSTART;TZID=America/New_York:20160211T183000
DTEND;TZID=America/New_York:20160211T203000
END:VEVENT
END:VCALENDAR
