BEGIN:VCALENDAR
PRODID:-//eluceo/ical//2.0/EN
VERSION:2.0
CALSCALE:GREGORIAN
BEGIN:VEVENT
UID:6ed929e7fe0d785cfaacafe0ed87c21d
DTSTAMP:20260421T165932Z
SUMMARY:YAD Monthly Happy Hour
DESCRIPTION:Jewish Federation of Central Massachusetts\nCalendar\nhttps://j
 ewishcentralmass.org/calendar/yad-monthly-happy-hour\n\nhttps://www.facebo
 ok.com/groups/centralmassyad/
DTSTART;TZID=America/New_York:20150312T183000
DTEND;TZID=America/New_York:20150312T203000
END:VEVENT
END:VCALENDAR
