BEGIN:VCALENDAR
PRODID:-//eluceo/ical//2.0/EN
VERSION:2.0
CALSCALE:GREGORIAN
BEGIN:VEVENT
UID:32507a33da1f5ea385b19bdfed3b7caf
DTSTAMP:20260423T053029Z
SUMMARY:YAD Mimouna - 2022
DESCRIPTION:Jewish Federation of Central Massachusetts\nCalendar\nhttps://j
 ewishcentralmass.org/calendar/yad-mimouna-2022\n\nYAD Mimouna\n\nSaturday\
 , May 7th\, 7 pm
DTSTART;TZID=America/New_York:20220507T190000
DTEND;TZID=America/New_York:20220507T210000
END:VEVENT
END:VCALENDAR
