BEGIN:VCALENDAR
PRODID:-//eluceo/ical//2.0/EN
VERSION:2.0
CALSCALE:GREGORIAN
BEGIN:VEVENT
UID:2053f93928c73159c8fc6c2858dbd7b1
DTSTAMP:20260421T202430Z
SUMMARY:YAD - May Shabbat Lunch (outdoors)
DESCRIPTION:Jewish Federation of Central Massachusetts\nCalendar\nhttps://j
 ewishcentralmass.org/calendar/yad-may-shabbat-lunch-outdoors\n\nYAD - May 
 Shabbat Lunch (outdoors) Saturday\, May 21st\, private home
DTSTART;TZID=America/New_York:20220521T000000
DTEND;TZID=America/New_York:20220521T235959
END:VEVENT
END:VCALENDAR
