BEGIN:VCALENDAR
PRODID:-//eluceo/ical//2.0/EN
VERSION:2.0
CALSCALE:GREGORIAN
BEGIN:VEVENT
UID:070ac047135508cb2e188284545c01a2
DTSTAMP:20260423T193819Z
SUMMARY:YAD Lead Program
DESCRIPTION:Jewish Federation of Central Massachusetts\nCalendar\nhttps://j
 ewishcentralmass.org/calendar/yad-lead-program\n\nYAD LEAD Program: Sunday
 \, November 13th\, 10:15\, JFED Boardroom or JCC Senior Lounge TBA\, Brunc
 h and Conversation with Local\, Sherri Levin\, Collegiate Basketball Hal
 l-of-Famer
DTSTART;TZID=America/New_York:20221113T101500
DTEND;TZID=America/New_York:20221113T121500
END:VEVENT
END:VCALENDAR
