BEGIN:VCALENDAR
PRODID:-//eluceo/ical//2.0/EN
VERSION:2.0
CALSCALE:GREGORIAN
BEGIN:VEVENT
UID:b45f090dc2a6dc40b51f0e236f91d1a8
DTSTAMP:20260422T040258Z
SUMMARY:YAD Lag B'omer
DESCRIPTION:Jewish Federation of Central Massachusetts\nCalendar\nhttps://j
 ewishcentralmass.org/calendar/yad-lag-bomer\n\nYAD Lag B'omer\n\n7:00 pm\n
 \nRSVP to mhall@jfcm.org
DTSTART;TZID=America/New_York:20250517T190000
DTEND;TZID=America/New_York:20250517T210000
END:VEVENT
END:VCALENDAR
