BEGIN:VCALENDAR
PRODID:-//eluceo/ical//2.0/EN
VERSION:2.0
CALSCALE:GREGORIAN
BEGIN:VEVENT
UID:70216cd18a55080d8e7a67fba850a563
DTSTAMP:20260424T153034Z
SUMMARY:YAD - June Happy Hour/Supper Club
DESCRIPTION:Jewish Federation of Central Massachusetts\nCalendar\nhttps://j
 ewishcentralmass.org/calendar/yad-june-happy-hoursupper-club\n\nHappy Hour
 /Supper Club: Thursday\, June 9th\, 6:30 pm at Vintage Grille (Shrewsbury 
 St) Hosted by YAD Council.
DTSTART;TZID=America/New_York:20220609T183000
DTEND;TZID=America/New_York:20220609T203000
END:VEVENT
END:VCALENDAR
