BEGIN:VCALENDAR
PRODID:-//eluceo/ical//2.0/EN
VERSION:2.0
CALSCALE:GREGORIAN
BEGIN:VEVENT
UID:038ae1e882e85d487626f0c44b963ce3
DTSTAMP:20260424T205356Z
SUMMARY:YAD - July Shabbat Lunch
DESCRIPTION:Jewish Federation of Central Massachusetts\nCalendar\nhttps://j
 ewishcentralmass.org/calendar/yad-july-shabbat-lunch\n\nShabbat Lunch: Sat
 urday\, July 30th at Lauren’s. Time TBD. 
DTSTART;TZID=America/New_York:20220730T120000
DTEND;TZID=America/New_York:20220730T140000
END:VEVENT
END:VCALENDAR
