BEGIN:VCALENDAR
PRODID:-//eluceo/ical//2.0/EN
VERSION:2.0
CALSCALE:GREGORIAN
BEGIN:VEVENT
UID:013af53783275a4953b7de05ddc55ee1
DTSTAMP:20260421T030658Z
SUMMARY:YAD - July Happy Hour/ Supper Club
DESCRIPTION:Jewish Federation of Central Massachusetts\nCalendar\nhttps://j
 ewishcentralmass.org/calendar/yad-july-happy-hour-supper-club\n\nHappy Hou
 r/ Supper Club: Thursday\, July 14th 6:30 pm at Zorba’s Taverna (Worcest
 er). 
DTSTART;TZID=America/New_York:20220714T183000
DTEND;TZID=America/New_York:20220714T203000
END:VEVENT
END:VCALENDAR
