BEGIN:VCALENDAR
PRODID:-//eluceo/ical//2.0/EN
VERSION:2.0
CALSCALE:GREGORIAN
BEGIN:VEVENT
UID:f6d182166c6a84768603b27fc496e75b
DTSTAMP:20260422T014329Z
SUMMARY:YAD July Happy Hour at Mosaka
DESCRIPTION:Jewish Federation of Central Massachusetts\nCalendar\nhttps://j
 ewishcentralmass.org/calendar/yad-july-happy-hour-at-mosaka\n\nYAD July Ha
 ppy Hour at Mosaka
DTSTART;TZID=America/New_York:20230713T183000
DTEND;TZID=America/New_York:20230713T203000
END:VEVENT
END:VCALENDAR
