BEGIN:VCALENDAR
PRODID:-//eluceo/ical//2.0/EN
VERSION:2.0
CALSCALE:GREGORIAN
BEGIN:VEVENT
UID:193b6afd22b25dbd4c6ddebb6bd3508b
DTSTAMP:20260422T213002Z
SUMMARY:YAD: Ignite the Light
DESCRIPTION:Jewish Federation of Central Massachusetts\nCalendar\nhttps://j
 ewishcentralmass.org/calendar/yad-ignite-the-light\n\nYAD: Ignite the Ligh
 t\n\nJoin YAD around the fire for Havdalah\, and a pre-celebration of Lag 
 B’omer. We will have appetizers\, desserts\, beverages\, games\, and fri
 ends. Please let us know what you can bring to share.\n\nWHEN: Saturday\, 
 May 6th\, 7:30 pm\n\nWHERE: Royee’s Backyard\n\nRSVP: mhall@jfcm.org for
  address
DTSTART;TZID=America/New_York:20230506T193000
DTEND;TZID=America/New_York:20230506T213000
END:VEVENT
END:VCALENDAR
