BEGIN:VCALENDAR
PRODID:-//eluceo/ical//2.0/EN
VERSION:2.0
CALSCALE:GREGORIAN
BEGIN:VEVENT
UID:ee56127144badce7c9560d843c682457
DTSTAMP:20260422T042321Z
SUMMARY:YAD - ICE CREAM SOCIAL at MEOLA’s
DESCRIPTION:Jewish Federation of Central Massachusetts\nCalendar\nhttps://j
 ewishcentralmass.org/calendar/yad-ice-cream-social-at-meolas\n\nJoin us fo
 r a post-Shavuot Dairy (or non-dairy) Festivus on Thursday evening\, May 2
 7th\, 7:30 pm at Meola’s in West Boylston. Lots of outdoor spaces to spr
 ead out and indulge ourselves in the heavenly treat.
DTSTART;TZID=America/New_York:20210527T193000
DTEND;TZID=America/New_York:20210527T210000
END:VEVENT
END:VCALENDAR
