BEGIN:VCALENDAR
PRODID:-//eluceo/ical//2.0/EN
VERSION:2.0
CALSCALE:GREGORIAN
BEGIN:VEVENT
UID:968234d0a3ec1c550d46accfd035ad10
DTSTAMP:20260423T042244Z
SUMMARY:YAD Hopkinton State Park
DESCRIPTION:Jewish Federation of Central Massachusetts\nCalendar\nhttps://j
 ewishcentralmass.org/calendar/yad-hopkinton-state-park\n\nJoin YAD at Hopk
 inton State Park\n\nJuly 16th (Rain date July 23rd)\n\nTime & Meeting Spot
  TBA
DTSTART;TZID=America/New_York:20170716T120000
DTEND;TZID=America/New_York:20170716T180000
END:VEVENT
END:VCALENDAR
