BEGIN:VCALENDAR
PRODID:-//eluceo/ical//2.0/EN
VERSION:2.0
CALSCALE:GREGORIAN
BEGIN:VEVENT
UID:d41ab64092bb9c1ee7170707bdb2b480
DTSTAMP:20260424T102620Z
SUMMARY:YAD Hiking
DESCRIPTION:Jewish Federation of Central Massachusetts\nCalendar\nhttps://j
 ewishcentralmass.org/calendar/yad-hiking\n\nYAD Hikes at Broad Meadow\, Wo
 rcester\n\nSunday\, May 7\, 2017
DTSTART;TZID=America/New_York:20170507T100000
DTEND;TZID=America/New_York:20170507T130000
END:VEVENT
END:VCALENDAR
