BEGIN:VCALENDAR
PRODID:-//eluceo/ical//2.0/EN
VERSION:2.0
CALSCALE:GREGORIAN
BEGIN:VEVENT
UID:d7cd281092f9db984a048130ababfd04
DTSTAMP:20260423T040851Z
SUMMARY:YAD Hike June 2022
DESCRIPTION:Jewish Federation of Central Massachusetts\nCalendar\nhttps://j
 ewishcentralmass.org/calendar/yad-hike-june-2022\n\nShavuot Hike at West B
 oylston Rail Trail: Sunday\, June 5th at 11 am. Meet in parking lot at tra
 il head. Hike to be followed by ice cream . Hosts Eden and Vesper.
DTSTART;TZID=America/New_York:20220605T110000
DTEND;TZID=America/New_York:20220605T130000
END:VEVENT
END:VCALENDAR
