BEGIN:VCALENDAR
PRODID:-//eluceo/ical//2.0/EN
VERSION:2.0
CALSCALE:GREGORIAN
BEGIN:VEVENT
UID:bcae3f1344e3817c25182496c6131be4
DTSTAMP:20260422T164654Z
SUMMARY:YAD - Happy Hour/Supper Club August 2022
DESCRIPTION:Jewish Federation of Central Massachusetts\nCalendar\nhttps://j
 ewishcentralmass.org/calendar/yad-happy-hoursupper-club-august-2022\n\nHap
 py Hour/Supper Club: Thursday\, August 18th\, 6:30 pm\, locale to be confi
 rmed
DTSTART;TZID=America/New_York:20220818T183000
DTEND;TZID=America/New_York:20220818T203000
END:VEVENT
END:VCALENDAR
