BEGIN:VCALENDAR
PRODID:-//eluceo/ical//2.0/EN
VERSION:2.0
CALSCALE:GREGORIAN
BEGIN:VEVENT
UID:5af03a1205ebe7e2b7349326f6855aed
DTSTAMP:20260424T124039Z
SUMMARY:YAD Happy Hour
DESCRIPTION:Jewish Federation of Central Massachusetts\nCalendar\nhttps://j
 ewishcentralmass.org/calendar/yad-happy-hour_Jan\n\nYAD Happy Hour
DTSTART;TZID=America/New_York:20160114T183000
DTEND;TZID=America/New_York:20160114T203000
END:VEVENT
END:VCALENDAR
