BEGIN:VCALENDAR
PRODID:-//eluceo/ical//2.0/EN
VERSION:2.0
CALSCALE:GREGORIAN
BEGIN:VEVENT
UID:4b48d5771dbfe15c08f858ad929897e2
DTSTAMP:20260424T012707Z
SUMMARY:YAD Happy Hour
DESCRIPTION:Jewish Federation of Central Massachusetts\nCalendar\nhttps://j
 ewishcentralmass.org/calendar/yad-happy-hour12\n\nYAD Monthly Happy Hour
DTSTART;TZID=America/New_York:20151112T183000
DTEND;TZID=America/New_York:20151112T203000
END:VEVENT
END:VCALENDAR
