BEGIN:VCALENDAR
PRODID:-//eluceo/ical//2.0/EN
VERSION:2.0
CALSCALE:GREGORIAN
BEGIN:VEVENT
UID:008e1150ae0f31acfa6c84f8befc4e37
DTSTAMP:20260422T173446Z
SUMMARY:YAD Happy Hour & Games
DESCRIPTION:Jewish Federation of Central Massachusetts\nCalendar\nhttps://j
 ewishcentralmass.org/calendar/yad-happy-hour-games\n\nYAD Happy Hour & Gam
 es at Redemption Rock\, 2:00 pm
DTSTART;TZID=America/New_York:20191103T140000
DTEND;TZID=America/New_York:20191103T160000
END:VEVENT
END:VCALENDAR
