BEGIN:VCALENDAR
PRODID:-//eluceo/ical//2.0/EN
VERSION:2.0
CALSCALE:GREGORIAN
BEGIN:VEVENT
UID:cbc6b368878e2299c19d816a15e2e7a1
DTSTAMP:20260420T143228Z
SUMMARY:YAD Happy Hour - August 2024
DESCRIPTION:Jewish Federation of Central Massachusetts\nCalendar\nhttps://j
 ewishcentralmass.org/calendar/yad-happy-hour-august-2024\n\nYAD Happy Hour
 : Tuesday\, August 6th\, 6:30 pm\, locale to be confirmed.
DTSTART;TZID=America/New_York:20240806T183000
DTEND;TZID=America/New_York:20240806T203000
END:VEVENT
END:VCALENDAR
