BEGIN:VCALENDAR
PRODID:-//eluceo/ical//2.0/EN
VERSION:2.0
CALSCALE:GREGORIAN
BEGIN:VEVENT
UID:260ff33fbc2342f616f3e8fa393cf603
DTSTAMP:20260422T020520Z
SUMMARY:YAD Hanukkah Party 2022
DESCRIPTION:Jewish Federation of Central Massachusetts\nCalendar\nhttps://j
 ewishcentralmass.org/calendar/yad-hanukkah-party-2022\n\nSaturday\, Decemb
 er 18th\, YAD Hanukkah Party\, 4:00 pm
DTSTART;TZID=America/New_York:20221218T160000
DTEND;TZID=America/New_York:20221218T180000
END:VEVENT
END:VCALENDAR
