BEGIN:VCALENDAR
PRODID:-//eluceo/ical//2.0/EN
VERSION:2.0
CALSCALE:GREGORIAN
BEGIN:VEVENT
UID:91622f2102acb420ac797988b30a085a
DTSTAMP:20260421T042312Z
SUMMARY:YAD Hanukkah 2024
DESCRIPTION:Jewish Federation of Central Massachusetts\nCalendar\nhttps://j
 ewishcentralmass.org/calendar/yad-hanukkah-2024\n\nSaturday\, December 21s
 t\, 6:30 pm\, Shrewsbury (address to be given upon RSVP)\n\nJoin us for a 
 Mediterranean dinner\, cocktails and beverages\, sufganiyot\, friendship\,
  and fun!\n\nBring your best batch of latkes for our annual latke contest.
  Winner gets a prize!\n\nBring a $10.00 gift to participate in our annual 
 Yankee Gift Swap (optional)\n\nRSVP: www.jfcm.org/yadhan24 $18.00/person
DTSTART;TZID=America/New_York:20241221T183000
DTEND;TZID=America/New_York:20241221T203000
END:VEVENT
END:VCALENDAR
