BEGIN:VCALENDAR
PRODID:-//eluceo/ical//2.0/EN
VERSION:2.0
CALSCALE:GREGORIAN
BEGIN:VEVENT
UID:77f76e645157b88adb41ccaa43c48642
DTSTAMP:20260422T120025Z
SUMMARY:YAD Hanukkah 2023
DESCRIPTION:Jewish Federation of Central Massachusetts\nCalendar\nhttps://j
 ewishcentralmass.org/calendar/yad-hanukkah-2023\n\nYAD Hanukkah \n\nDecemb
 er 10th  4:00 pm
DTSTART;TZID=America/New_York:20231210T160000
DTEND;TZID=America/New_York:20231210T180000
END:VEVENT
END:VCALENDAR
